BEGIN:VCALENDAR
VERSION:2.0
PRODID:-//beyondschoolbells.org//NONSGML kigkonsult.se iCalcreator 2.30.10/
 /
CALSCALE:GREGORIAN
METHOD:PUBLISH
UID:2015df0e-c093-4b9e-ae9b-ac24a5e00758
X-WR-CALDESC:
X-WR-RELCALID:371fe02dcb633b3a6460322a75e526a1
X-WR-TIMEZONE:America/Chicago
BEGIN:VTIMEZONE
TZID:America/Chicago
BEGIN:STANDARD
TZNAME:CST
DTSTART:20251102T020000
TZOFFSETFROM:-0500
TZOFFSETTO:-0600
RDATE:20261101T020000
END:STANDARD
BEGIN:DAYLIGHT
TZNAME:CDT
DTSTART:20250309T020000
TZOFFSETFROM:-0600
TZOFFSETTO:-0500
RDATE:20260308T020000
RDATE:20270314T020000
END:DAYLIGHT
END:VTIMEZONE
BEGIN:VEVENT
UID:d4d197be-1039-4a81-8773-08036fc97c27
DTSTAMP:20260424T133403Z
DESCRIPTION:
DTSTART;TZID=America/Chicago:20260216T120000
DTEND;TZID=America/Chicago:20260217T160000
LOCATION:141 N 9th St.\, Lincoln\, NE 68508 US
SUMMARY:BSB Catalyst Summit 2026
END:VEVENT
END:VCALENDAR
